BEGIN:VCALENDAR
VERSION:2.0
PRODID:-//Gournay Ecologique Solidaire - ECPv6.2.8.1//NONSGML v1.0//EN
CALSCALE:GREGORIAN
METHOD:PUBLISH
X-WR-CALNAME:Gournay Ecologique Solidaire
X-ORIGINAL-URL:https://www.action-ecologie-solidaire.org
X-WR-CALDESC:évènements pour Gournay Ecologique Solidaire
REFRESH-INTERVAL;VALUE=DURATION:PT1H
X-Robots-Tag:noindex
X-PUBLISHED-TTL:PT1H
BEGIN:VTIMEZONE
TZID:Europe/Paris
BEGIN:DAYLIGHT
TZOFFSETFROM:+0100
TZOFFSETTO:+0200
TZNAME:CEST
DTSTART:20230326T010000
END:DAYLIGHT
BEGIN:STANDARD
TZOFFSETFROM:+0200
TZOFFSETTO:+0100
TZNAME:CET
DTSTART:20231029T010000
END:STANDARD
END:VTIMEZONE
BEGIN:VEVENT
DTSTART;TZID=Europe/Paris:20230306T080000
DTEND;TZID=Europe/Paris:20230306T170000
DTSTAMP:20260420T051723
CREATED:20211211T132533Z
LAST-MODIFIED:20221113T094451Z
UID:10000006-1678089600-1678122000@www.action-ecologie-solidaire.org
SUMMARY:Fête du bio de janvier
DESCRIPTION:Pour la 21ème année consécutive\, Haute-Loire Bio organise la fête de la Bio appuyée par un solide groupe d’organisateurs constitué de producteurs bio locaux et d’associations locales (Emblamap…)\, ainsi que la municipalité de Saint Germain Laprade. \nCette année nous avons choisi de prendre comme fil rouge les femmes agricultrices. Plusieurs animations seront proposées pour sensibiliser les visiteurs à cette thématique. \nHaute-Loire Bio est une association pilotée par des producteurs et artisans-transformateurs bio\, œuvrant depuis 1992 pour promouvoir\, développer et défendre une agriculture biologique respectueuse des hommes et de la terre en Haute Loire. Au quotidien\, les administrateurs\, les adhérents\, ainsi que l’équipe de 4 salariés\, travaillent pour : \nInformer et mettre en réseau les futurs bio (accompagnement porteurs de projet\, sensibilisation\, veille…)\nAccompagner les producteurs bio vers l’autonomie (conversion\, formations\, groupes de progrès\, expérimentations\, commandes groupées…)\nAccompagner la commercialisation de produits bio (structuration des filières\, circuits courts\, restauration collective…)\nPromouvoir la consommation des produits bio et locaux (foire bio de Langeac\, fête de la bio de Beaulieu\, carte des bonnes adresses bio\, Bon Plan Bio…)
URL:https://www.action-ecologie-solidaire.org/event/fete-du-bio-de-janvier/
LOCATION:Hôtel interconsulaire Le Puy en velay\, 16 boulevard Président Bertrand\, Le Puy en Velay\, 43000\, France
ATTACH;FMTTYPE=image/jpeg:https://www.action-ecologie-solidaire.org/wp-content/uploads/2021/12/lac_du_der-chantecoq_plage_nuisement.jpeg
END:VEVENT
END:VCALENDAR